BEGIN:VCALENDAR
PRODID:-//github.com/rianjs/ical.net//NONSGML ical.net 4.0//EN
VERSION:2.0
BEGIN:VEVENT
DESCRIPTION:Alle Mitglieder*innen und interessierte Bürger*innen sind herz
 lich eingeladen.\nBesprochen werden aktuelle Radthemen\, sowie die erfolg
 ten und geplanten Touren.\nhttps://touren-termine.adfc.de/radveranstaltun
 g/167380-treffen-der-oranienburger-ortsgruppe
DTEND:20250709T180000Z
DTSTAMP:20260425T200947Z
DTSTART:20250709T160000Z
LOCATION:Altstadtklause\, Havelstr. 16\, 16515 Oranienburg
SEQUENCE:0
SUMMARY:Treffen der Oranienburger Ortsgruppe
UID:4935551f-02d9-42a3-b54b-b5fa43547db4
URL:https://touren-termine.adfc.de/radveranstaltung/167380-treffen-der-ora
 nienburger-ortsgruppe
END:VEVENT
END:VCALENDAR
