BEGIN:VCALENDAR
PRODID:-//github.com/rianjs/ical.net//NONSGML ical.net 4.0//EN
VERSION:2.0
BEGIN:VEVENT
DESCRIPTION:An einem Ort bei Herne-Röhlinghausen - wo die Vergangenheit in
  Zukunft wieder Real wird\nhttps://touren-termine.adfc.de/radveranstaltun
 g/173212-radtour-zur-konigsgrube
DTEND:20260531T130000Z
DTSTAMP:20260421T120325Z
DTSTART:20260531T080000Z
LOCATION:Willy-Brandt-Platz\, 45127 Essen
SEQUENCE:0
SUMMARY:Radtour zur Königsgrube
UID:de4e2e70-2a08-4fc5-bab5-e73cd0ddaf8f
URL:https://touren-termine.adfc.de/radveranstaltung/173212-radtour-zur-kon
 igsgrube
END:VEVENT
END:VCALENDAR
