BEGIN:VCALENDAR
PRODID:-//github.com/rianjs/ical.net//NONSGML ical.net 4.0//EN
VERSION:2.0
BEGIN:VEVENT
DESCRIPTION:Die Damentour wird dieses Jahr eine entspannte Genusstour sein
 .\nhttps://touren-termine.adfc.de/radveranstaltung/154925-damentour
DTEND:20250529T143000Z
DTSTAMP:20260424T231259Z
DTSTART:20250529T080000Z
LOCATION:Schauturm im LGS-Gelände\, Dr.-Kurz-Str.\,\, 92318 Neumarkt in de
 r Oberpfalz
SEQUENCE:0
SUMMARY:Damentour
UID:f1217ba2-f220-47b1-ad53-3e7ad310d4b6
URL:https://touren-termine.adfc.de/radveranstaltung/154925-damentour
END:VEVENT
END:VCALENDAR
