BEGIN:VCALENDAR
PRODID:-//github.com/rianjs/ical.net//NONSGML ical.net 4.0//EN
VERSION:2.0
BEGIN:VEVENT
DESCRIPTION:Lengenwang - Theorie sowie praktische Übungen für eine sichere
  Fahrtechnik wie Anfahren\, Bremsverhalten\, Bergabfahrten. Hilfreiche Ti
 pps zur Elektronik\, Akku-Behandlung. Anmeldeschluss: Sa 18.04.2026\nhttp
 s://touren-termine.adfc.de/radveranstaltung/174233-fahrsicherheitstrainin
 g-etourenrad-level-2
DTEND:20260425T140000Z
DTSTAMP:20260419T155837Z
DTSTART:20260425T110000Z
LOCATION:Sportplatz Außerlengenwang\, 87663 Landkreis Ostallgäu
SEQUENCE:0
SUMMARY:Fahrsicherheitstraining E-Tourenrad - Level 2
UID:2b527ffa-afce-4175-beed-d05459839643
URL:https://touren-termine.adfc.de/radveranstaltung/174233-fahrsicherheits
 training-etourenrad-level-2
END:VEVENT
END:VCALENDAR
