BEGIN:VCALENDAR
PRODID:-//github.com/rianjs/ical.net//NONSGML ical.net 4.0//EN
VERSION:2.0
BEGIN:VEVENT
DESCRIPTION:Mit dem Zug nach Vienenburg\, dann fahren wir mit unseren Räde
 rn über das lostergut Wöltingerode nach Braunschweig zurück. Im Harly hab
 en wir ggf. die Möglichkeit\, eine Handvoll Bärlauch zu pflücken.\nhttps:
 //touren-termine.adfc.de/radveranstaltung/191870-vienenburg-bis-braunschw
 eig
DTEND:20260412T140000Z
DTSTAMP:20260423T014957Z
DTSTART:20260412T070000Z
LOCATION:Bahnhofsvorplatz 13\, 38102 Braunschweig
SEQUENCE:0
SUMMARY:Vienenburg bis Braunschweig
UID:32f7e87a-0aa9-44cc-80c4-0df39fe7664a
URL:https://touren-termine.adfc.de/radveranstaltung/191870-vienenburg-bis-
 braunschweig
END:VEVENT
END:VCALENDAR
