BEGIN:VCALENDAR
PRODID:-//github.com/rianjs/ical.net//NONSGML ical.net 4.0//EN
VERSION:2.0
BEGIN:VEVENT
DESCRIPTION:Mobil auch ohne eigenes Auto - Infomarkt zu einer umweltschone
 nden Mobilität (MVV\, Carsharing\, Radfahren)\ngebrauchte Fahrräder für G
 roß und Klein\, Fahrradkindersitze\, -helme\, -anhänger etc.\nhttps://tou
 ren-termine.adfc.de/radveranstaltung/130603-16-radlflohmarkt-in-garching
DTEND:20240504T100000Z
DTSTAMP:20260420T082555Z
DTSTART:20240504T070000Z
LOCATION:Bürgerplatz\, 85748 Garching bei München
SEQUENCE:0
SUMMARY:16. Radl-Flohmarkt in Garching
UID:7641f2c3-1de9-4f45-be40-38bc4eaa5bc4
URL:https://touren-termine.adfc.de/radveranstaltung/130603-16-radlflohmark
 t-in-garching
END:VEVENT
END:VCALENDAR
