BEGIN:VCALENDAR
PRODID:-//github.com/rianjs/ical.net//NONSGML ical.net 4.0//EN
VERSION:2.0
BEGIN:VEVENT
DESCRIPTION:Leichte Tagestour „Grüne Runde München“: Pasing\, Westpark\, H
 P8\, Flaucher\, Englischer Garten\, Olympiapark. Einkehr im Biergarten. A
 n- und Rückreise mit DB oder individuell.\nhttps://touren-termine.adfc.de
 /radveranstaltung/148610-noch-1-platz-thementour-grune-runde-munchen
DTEND:20250706T160000Z
DTSTAMP:20260419T155628Z
DTSTART:20250706T060000Z
LOCATION:Bahnhofsvorplatz Kaufbeuren\, 87600 Kaufbeuren
SEQUENCE:0
SUMMARY:noch 1 Platz! Thementour "Grüne Runde München"
UID:31c0a0e2-5146-46e3-bdc3-a4be6a8b80b1
URL:https://touren-termine.adfc.de/radveranstaltung/148610-noch-1-platz-th
 ementour-grune-runde-munchen
END:VEVENT
END:VCALENDAR
