BEGIN:VCALENDAR
PRODID:-//github.com/rianjs/ical.net//NONSGML ical.net 4.0//EN
VERSION:2.0
BEGIN:VEVENT
DESCRIPTION:Am vierten Freitag im Monat steht unsere Ausfahrt unter dem Mo
 tto Sichtbarkeit des Radverkehrs\, Sicherheitsmängel und Schwächen der Ro
 utenführung und Beschilderung.\nhttps://touren-termine.adfc.de/radveranst
 altung/165003-kritische-tour-sassenhausen-weidenhausen
DTEND:20250523T180000Z
DTSTAMP:20260423T064924Z
DTSTART:20250523T150000Z
LOCATION:Bahnhof Bad Berleburg\, 57319 Bad Berleburg
SEQUENCE:0
SUMMARY:Kritische Tour - Sassenhausen\, Weidenhausen
UID:cb279783-c1de-4291-bbb4-edec0c52e8e0
URL:https://touren-termine.adfc.de/radveranstaltung/165003-kritische-tour-
 sassenhausen-weidenhausen
END:VEVENT
END:VCALENDAR
