BEGIN:VCALENDAR
PRODID:-//github.com/rianjs/ical.net//NONSGML ical.net 4.0//EN
VERSION:2.0
BEGIN:VEVENT
DESCRIPTION:Treffen der AG Verkehr des ADFC Bochum\nhttps://touren-termine
 .adfc.de/radveranstaltung/152906-ag-verkehr
DTEND:20251106T193000Z
DTSTAMP:20260420T150509Z
DTSTART:20251106T173000Z
LOCATION:Alsenstraße 27\, 44789 Bochum
SEQUENCE:0
SUMMARY:AG Verkehr
UID:8511c4a9-234e-481c-a771-9f874446c19d
URL:https://touren-termine.adfc.de/radveranstaltung/152906-ag-verkehr
END:VEVENT
END:VCALENDAR
