BEGIN:VCALENDAR
PRODID:-//github.com/rianjs/ical.net//NONSGML ical.net 4.0//EN
VERSION:2.0
BEGIN:VEVENT
DESCRIPTION:An diesem Tag feiert der „Cube Store Kempten“ bei „Wildrad“ in
  Waltenhofen die offizielle Eröffnung seiner neuen Geschäftsräume. Und de
 r ADFC ist mittendrin dabei.\nhttps://touren-termine.adfc.de/radveranstal
 tung/123818-eroffnungsfeier-in-waltenhofen
DTEND:20240316T170000Z
DTSTAMP:20260424T153220Z
DTSTART:20240316T080000Z
LOCATION:Daimlerstraße 3\, 87448 Landkreis Oberallgäu
SEQUENCE:0
SUMMARY:Eröffnungsfeier in Waltenhofen
UID:bfcd85fa-6d02-48ed-8143-0a8f5b82f554
URL:https://touren-termine.adfc.de/radveranstaltung/123818-eroffnungsfeier
 -in-waltenhofen
END:VEVENT
END:VCALENDAR
