BEGIN:VCALENDAR
PRODID:-//github.com/rianjs/ical.net//NONSGML ical.net 4.0//EN
VERSION:2.0
BEGIN:VEVENT
DESCRIPTION:Von Stadthagen über Bückeburg zum Gevattersee\, danach weiter 
 durch das Naturschutzgebiet Coestedt zur Werremündung. Zurück geht es übe
 r Porta Westfalica\,Minden\,Cammer nach Stadthagen.\nhttps://touren-termi
 ne.adfc.de/radveranstaltung/130073-grosser-weserbogen-werremundung
DTEND:20240512T160000Z
DTSTAMP:20260420T173315Z
DTSTART:20240512T080000Z
LOCATION:Am Markt 1\, 31655 Stadthagen
SEQUENCE:0
SUMMARY:Großer Weserbogen – Werremündung
UID:7d0d1179-5af0-4411-845a-2f9f335eb633
URL:https://touren-termine.adfc.de/radveranstaltung/130073-grosser-weserbo
 gen-werremundung
END:VEVENT
END:VCALENDAR
