BEGIN:VCALENDAR
PRODID:-//github.com/rianjs/ical.net//NONSGML ical.net 4.0//EN
VERSION:2.0
BEGIN:VEVENT
DESCRIPTION:Wir helfen und geben Tipps zur Reparatur\, Pflege und Wartung 
 eurer Fahrräder\nhttps://touren-termine.adfc.de/radveranstaltung/104232-r
 adreparaturcafe
DTEND:20230909T130000Z
DTSTAMP:20260421T222030Z
DTSTART:20230909T090000Z
LOCATION:WIWOZU\, Südring 23\, 45525 Hattingen
SEQUENCE:0
SUMMARY:RadReparaturCafé
UID:0a5ab4ec-32ac-442c-be16-34f0df5ec66d
URL:https://touren-termine.adfc.de/radveranstaltung/104232-radreparaturcafe
END:VEVENT
END:VCALENDAR
