BEGIN:VCALENDAR
PRODID:-//github.com/rianjs/ical.net//NONSGML ical.net 4.0//EN
VERSION:2.0
BEGIN:VEVENT
DESCRIPTION:Wir fahren in Fahrgemeinschaften ins Alpenland. Das Ziel wird 
 bei der Anmeldung bekannt gegeben. Im Voralpenland und im 5 Seengebiet we
 rden ebenso Touren angeboten.\nhttps://touren-termine.adfc.de/radveransta
 ltung/190621-mtbbergtour-nach-wahl
DTEND:20270121T060000Z
DTSTAMP:20260425T145710Z
DTSTART:20260528T060000Z
LOCATION:Carolinenstraße 1a\, 82319 Starnberg
SEQUENCE:0
SUMMARY:MTB-Bergtour nach Wahl
UID:d9925fe6-0016-4775-9838-08910b44e4a2
URL:https://touren-termine.adfc.de/radveranstaltung/190621-mtbbergtour-nac
 h-wahl
END:VEVENT
END:VCALENDAR
