BEGIN:VCALENDAR
PRODID:-//github.com/rianjs/ical.net//NONSGML ical.net 4.0//EN
VERSION:2.0
BEGIN:VEVENT
DESCRIPTION:Über Stock und Stein am Abend? Das bieten wir bei unseren MTB-
 Feierabendtouren jeden 2. und 4. Mittwoch im Monat rund um Bietigheim-Bis
 singen.\nhttps://touren-termine.adfc.de/radveranstaltung/149536-bietighei
 mbissinger-mountainbikefeierabendtouren
DTEND:20250709T190000Z
DTSTAMP:20260425T195148Z
DTSTART:20250709T163000Z
LOCATION:Enzpavillon\, 74321 Bietigheim-Bissingen
SEQUENCE:0
SUMMARY:Bietigheim-Bissinger Mountainbike-Feierabendtouren
UID:687aff39-4277-4afe-84d9-ba9f28e7ebc0
URL:https://touren-termine.adfc.de/radveranstaltung/149536-bietigheimbissi
 nger-mountainbikefeierabendtouren
END:VEVENT
END:VCALENDAR
