BEGIN:VCALENDAR
PRODID:-//github.com/rianjs/ical.net//NONSGML ical.net 4.0//EN
VERSION:2.0
BEGIN:VEVENT
DESCRIPTION:Eine Zubringertour zur traditionellen Radfahrveranstaltung in 
 Mülheim.\nhttps://touren-termine.adfc.de/radveranstaltung/151180-zum-mulh
 eimer-fahrradfruhling
DTEND:20250529T090000Z
DTSTAMP:20260421T121021Z
DTSTART:20250529T080000Z
LOCATION:Essen-City Nord\, Park im Universitätsviertel (Grüne Mitte)\, Eis
 café LaLuna\, 45127 Essen
SEQUENCE:0
SUMMARY:Zum Mülheimer Fahrradfrühling
UID:4649d077-e23a-4f85-be52-e9d47b42273a
URL:https://touren-termine.adfc.de/radveranstaltung/151180-zum-mulheimer-f
 ahrradfruhling
END:VEVENT
END:VCALENDAR
