BEGIN:VCALENDAR
PRODID:-//github.com/rianjs/ical.net//NONSGML ical.net 4.0//EN
VERSION:2.0
BEGIN:VEVENT
DESCRIPTION:Unsere Geschäftsstelle ist für alle Anliegen und offenen Frage
 n geöffnet.\nhttps://touren-termine.adfc.de/radveranstaltung/130320-offnu
 ngszeit-unserer-geschaftsstelle
DTEND:20241128T170000Z
DTSTAMP:20260421T121147Z
DTSTART:20241128T150000Z
LOCATION:Essen (Innenstadt)\, ADFC Essen Geschäftsstelle\, Rottstraße 5\, 
 45127 Essen
SEQUENCE:0
SUMMARY:Öffnungszeit unserer Geschäftsstelle
UID:564a56ae-779a-4361-a381-c0eea57c757c
URL:https://touren-termine.adfc.de/radveranstaltung/130320-offnungszeit-un
 serer-geschaftsstelle
END:VEVENT
END:VCALENDAR
