BEGIN:VCALENDAR
PRODID:-//github.com/rianjs/ical.net//NONSGML ical.net 4.0//EN
VERSION:2.0
BEGIN:VEVENT
DESCRIPTION:Feierabendtouren in die nähere Umgebung\, Distanz 20 - 30 km\,
  oft mit Einkehr.\nhttps://touren-termine.adfc.de/radveranstaltung/116338
 -gilchinger-feierabendtour
DTEND:20240809T180000Z
DTSTAMP:20260425T145810Z
DTSTART:20240809T150000Z
LOCATION:Marktplatz\, 82205 Gilching
SEQUENCE:0
SUMMARY:Gilchinger Feierabendtour
UID:b172f399-5933-4383-88c2-db4e15551e0f
URL:https://touren-termine.adfc.de/radveranstaltung/116338-gilchinger-feie
 rabendtour
END:VEVENT
END:VCALENDAR
