BEGIN:VCALENDAR
PRODID:-//github.com/rianjs/ical.net//NONSGML ical.net 4.0//EN
VERSION:2.0
BEGIN:VEVENT
DESCRIPTION:Jeden Montag findet morgens eine Radtour statt.\nhttps://toure
 n-termine.adfc.de/radveranstaltung/155783-montag-morgen-tour
DTEND:20250217T110000Z
DTSTAMP:20260423T201931Z
DTSTART:20250217T090000Z
LOCATION:In der Ahe 29\, 27356 Rotenburg
SEQUENCE:0
SUMMARY:Montag Morgen Tour
UID:5900fd2f-9e2f-4604-86d5-d86e03934a0f
URL:https://touren-termine.adfc.de/radveranstaltung/155783-montag-morgen-t
 our
END:VEVENT
END:VCALENDAR
