BEGIN:VCALENDAR
PRODID:-//github.com/rianjs/ical.net//NONSGML ical.net 4.0//EN
VERSION:2.0
BEGIN:VEVENT
DESCRIPTION:Feierabendtour ins  Blaue! Wohin\, steht noch nicht fest. Ansc
 hließende Einkehr optional.\nhttps://touren-termine.adfc.de/radveranstalt
 ung/132727-feierabendtour-ins-blaue
DTEND:20240514T180000Z
DTSTAMP:20260423T031126Z
DTSTART:20240514T160000Z
LOCATION:Bad Berleburg Bahnhof\, 57319 Bad Berleburg
SEQUENCE:0
SUMMARY:Feierabendtour ins Blaue
UID:2d09ef4c-a407-42eb-80c1-57c9bf656cdb
URL:https://touren-termine.adfc.de/radveranstaltung/132727-feierabendtour-
 ins-blaue
END:VEVENT
END:VCALENDAR
