BEGIN:VCALENDAR
PRODID:-//github.com/rianjs/ical.net//NONSGML ical.net 4.0//EN
VERSION:2.0
BEGIN:VEVENT
DESCRIPTION:Wir radeln gemeinsam nach Indersdorf\, wo wir uns der diesjähr
 igen großen ADFC-Sternfahrt nach München anschließen. Genauere Informatio
 nen folgen\, sobald bekannt.\nhttps://touren-termine.adfc.de/radveranstal
 tung/197133-von-erdweg-zum-sternfahrttreffpunkt-indersdorf
DTEND;VALUE=DATE:20260614
DTSTAMP:20260421T101857Z
DTSTART;VALUE=DATE:20260614
LOCATION:S-Bahn-Parkplatz Erdweg\, 85253 Landkreis Dachau
SEQUENCE:0
SUMMARY:Von Erdweg zum Sternfahrt-Treffpunkt Indersdorf
UID:329b64a6-367b-4cd0-922a-a976d8d249a0
URL:https://touren-termine.adfc.de/radveranstaltung/197133-von-erdweg-zum-
 sternfahrttreffpunkt-indersdorf
END:VEVENT
END:VCALENDAR
