BEGIN:VCALENDAR
PRODID:-//github.com/rianjs/ical.net//NONSGML ical.net 4.0//EN
VERSION:2.0
BEGIN:VEVENT
DESCRIPTION:Wir treffen uns regelmäßig am dritten Montag im Monat um gemei
 nsame Aktionen zu planen oder uns zu allgemeinen Fahrradthemen auszutausc
 hen. Komm vorbei!\nhttps://touren-termine.adfc.de/radveranstaltung/176068
 -treffen-des-jungen-adfc-berlin
DTEND:20260518T190000Z
DTSTAMP:20260420T115915Z
DTSTART:20260518T170000Z
LOCATION:Café Uebereck\, Sonntagstraße 31\, 10245 Berlin\, 10245 Berlin
SEQUENCE:0
SUMMARY:Treffen des Jungen ADFC Berlin
UID:96399c0a-d444-4410-a5ce-df62a26ec98e
URL:https://touren-termine.adfc.de/radveranstaltung/176068-treffen-des-jun
 gen-adfc-berlin
END:VEVENT
END:VCALENDAR
