BEGIN:VCALENDAR
PRODID:-//github.com/rianjs/ical.net//NONSGML ical.net 4.0//EN
VERSION:2.0
BEGIN:VEVENT
DESCRIPTION:Gemütliche Feierabendtour ab Haßlcoh\nhttps://touren-termine.a
 dfc.de/radveranstaltung/150568-gemutliche-feierabendtour-ab-hassloch
DTEND:20250703T190000Z
DTSTAMP:20260425T173308Z
DTSTART:20250703T160000Z
LOCATION:Rathausplatz\, 67454 Haßloch
SEQUENCE:0
SUMMARY:Gemütliche Feierabendtour ab Haßloch
UID:acc54c5e-6b97-4ab3-8b85-d9b563c90872
URL:https://touren-termine.adfc.de/radveranstaltung/150568-gemutliche-feie
 rabendtour-ab-hassloch
END:VEVENT
END:VCALENDAR
