BEGIN:VCALENDAR
PRODID:-//github.com/rianjs/ical.net//NONSGML ical.net 4.0//EN
VERSION:2.0
BEGIN:VEVENT
DESCRIPTION:Am Samstag\, den 20.09.2025 rufen Fridays for Future zur Klima
  Demo auf! Beginn ist 12:00 Uhr am Invalidenpark. Unser Fahrradzubringer 
 startet um 11:00 Uhr ab Stadthausstr./Archibaldweg in Lichtenberg\nhttps:
 //touren-termine.adfc.de/radveranstaltung/171803-klimademo-fahrradzubring
 er
DTEND:20250920T130000Z
DTSTAMP:20260420T120305Z
DTSTART:20250920T090000Z
LOCATION:Invalidenstraße\, 10115 Berlin
SEQUENCE:0
SUMMARY:Klimademo + Fahrradzubringer
UID:770fae9f-9f3d-4cb9-8992-0b7b53d12491
URL:https://touren-termine.adfc.de/radveranstaltung/171803-klimademo-fahrr
 adzubringer
END:VEVENT
END:VCALENDAR
