BEGIN:VCALENDAR
PRODID:-//github.com/rianjs/ical.net//NONSGML ical.net 4.0//EN
VERSION:2.0
BEGIN:VEVENT
DESCRIPTION:Einfach schlendern\, lecker essen\, Karaoke oder doch zur Acht
 erbahn? Wir fahren entlang der Veloroute 1 auf dem direkten Wege zum Dom 
 und an der Elbe zurück.\nhttps://touren-termine.adfc.de/radveranstaltung/
 110954-komm-mit-zum-fruhlingsdom
DTEND:20240414T170000Z
DTSTAMP:20260419T182023Z
DTSTART:20240414T113000Z
LOCATION:S-Bahnhof Wedel\, 22880 Wedel
SEQUENCE:0
SUMMARY:Komm mit zum Frühlingsdom
UID:874c20e9-cfa1-45cc-b214-486f737c6e62
URL:https://touren-termine.adfc.de/radveranstaltung/110954-komm-mit-zum-fr
 uhlingsdom
END:VEVENT
END:VCALENDAR
