BEGIN:VCALENDAR
PRODID:-//github.com/rianjs/ical.net//NONSGML ical.net 4.0//EN
VERSION:2.0
BEGIN:VEVENT
DESCRIPTION:Von Borken - Westenborken - Raesfeld - Dämmerwald - Üfter Mark
  - Gasthof Hülsdünker - Heiden - nach Borken\nhttps://touren-termine.adfc
 .de/radveranstaltung/180017-zum-gasthaus-hulsdunker
DTEND:20260912T160000Z
DTSTAMP:20260421T151737Z
DTSTART:20260912T080000Z
LOCATION:Markt 15\, 46325 Borken
SEQUENCE:0
SUMMARY:Zum Gasthaus Hülsdünker
UID:5c366974-7b5f-4e78-9246-a6f021f29e0f
URL:https://touren-termine.adfc.de/radveranstaltung/180017-zum-gasthaus-hu
 lsdunker
END:VEVENT
END:VCALENDAR
