BEGIN:VCALENDAR
PRODID:-//github.com/rianjs/ical.net//NONSGML ical.net 4.0//EN
VERSION:2.0
BEGIN:VEVENT
DESCRIPTION:Wir bieten verschiedene Strecken zwischen 25 km und 35 km Läng
 e mit einer Fahrtdauer von ca. 2 Stunden an.\nhttps://touren-termine.adfc
 .de/radveranstaltung/144794-feierabendtour-parkplatz-donauarena
DTEND:20250716T190000Z
DTSTAMP:20260421T160918Z
DTSTART:20250716T160000Z
LOCATION:Parkplatz Donau-Arena\, Walhalla-Allee\, 93055 Regensburg
SEQUENCE:0
SUMMARY:Feierabendtour: Parkplatz Donau-Arena
UID:c9edcba3-a6b9-46f9-975f-ad19c8268cdb
URL:https://touren-termine.adfc.de/radveranstaltung/144794-feierabendtour-
 parkplatz-donauarena
END:VEVENT
END:VCALENDAR
