BEGIN:VCALENDAR
PRODID:-//github.com/rianjs/ical.net//NONSGML ical.net 4.0//EN
VERSION:2.0
BEGIN:VEVENT
DESCRIPTION:ADFC-Mitglieder Reinhold Weber aus Wuppertal und Peter Bockhol
 dt aus Hilden haben zehn Radtouren rund um den „Knotenpunkt Zeittunnel Wü
 lfrath“ ausgearbeitet und zeigen diese in einer Fotoausstellung.\nhttps:/
 /touren-termine.adfc.de/radveranstaltung/134064-fotoausstellung-knotenpun
 kt-zeittunnel
DTEND:20240630T160000Z
DTSTAMP:20260421T103253Z
DTSTART:20240601T130000Z
LOCATION:Hammerstein 5\, 42489 Wülfrath
SEQUENCE:0
SUMMARY:Fotoausstellung "Knotenpunkt Zeittunnel"
UID:f96acc66-b2ef-4f77-abe4-f3abc89c2435
URL:https://touren-termine.adfc.de/radveranstaltung/134064-fotoausstellung
 -knotenpunkt-zeittunnel
END:VEVENT
END:VCALENDAR
