BEGIN:VCALENDAR
PRODID:-//github.com/rianjs/ical.net//NONSGML ical.net 4.0//EN
VERSION:2.0
BEGIN:VEVENT
DESCRIPTION:Ca. 40 km in 2 Stunden mit Pause(n). Treffpunkt immer an der F
 ansteinraute Borussia-Park\, 18:00 Uhr\, jeden Mittwoch von April bis Sep
 tember.\nhttps://touren-termine.adfc.de/radveranstaltung/160806-adfcafter
 worksporttour-2025
DTEND:20250730T180000Z
DTSTAMP:20260421T231729Z
DTSTART:20250730T160000Z
LOCATION:Fan-Raute am Borussia Park\, 41179 Mönchengladbach
SEQUENCE:0
SUMMARY:ADFC-Afterwork-Sporttour 2025
UID:f70406c7-e35a-4d5b-82cf-d92a1a8f97dc
URL:https://touren-termine.adfc.de/radveranstaltung/160806-adfcafterworksp
 orttour-2025
END:VEVENT
END:VCALENDAR
