BEGIN:VCALENDAR
PRODID:-//github.com/rianjs/ical.net//NONSGML ical.net 4.0//EN
VERSION:2.0
BEGIN:VEVENT
DESCRIPTION:Familienradtour für Kinder mit Eltern und/oder Großeltern in d
 ie Nachbargemeinde Nordwalde\nhttps://touren-termine.adfc.de/radveranstal
 tung/116761-adfcfamilienausflug-mit-kindern
DTEND:20240714T160000Z
DTSTAMP:20260421T164024Z
DTSTART:20240714T120000Z
LOCATION:Borndalschule Altenberge\, Gooiker Platz 4\, 48341 Kreis Steinfurt
SEQUENCE:0
SUMMARY:ADFC-Familienausflug mit Kindern
UID:6a3014cb-9fcb-4f24-93d8-979573c66390
URL:https://touren-termine.adfc.de/radveranstaltung/116761-adfcfamilienaus
 flug-mit-kindern
END:VEVENT
END:VCALENDAR
