BEGIN:VCALENDAR
PRODID:-//github.com/rianjs/ical.net//NONSGML ical.net 4.0//EN
VERSION:2.0
BEGIN:VEVENT
DESCRIPTION:Am Rhein entlang bis in die Groov. Nach einer Pause geht's zur
 ück über Kölns höchsten Berg\, den Monte Troodelöh.\nhttps://touren-termi
 ne.adfc.de/radveranstaltung/186462-durch-die-groov-zum-hochsten-berg-koln
 s
DTEND:20260722T150000Z
DTSTAMP:20260419T155000Z
DTSTART:20260722T080000Z
LOCATION:Lindenplatz (Schlebusch)\, 51375 Leverkusen
SEQUENCE:0
SUMMARY:Durch die Groov zum höchsten Berg Kölns
UID:f3998554-a16a-455a-9384-2b5bcb35f169
URL:https://touren-termine.adfc.de/radveranstaltung/186462-durch-die-groov
 -zum-hochsten-berg-kolns
END:VEVENT
END:VCALENDAR
