BEGIN:VCALENDAR
PRODID:-//github.com/rianjs/ical.net//NONSGML ical.net 4.0//EN
VERSION:2.0
BEGIN:VEVENT
DESCRIPTION:Wir helfen und geben Tipps zur Reparatur\, Pflege und Wartung 
 eurer Fahrräder\nhttps://touren-termine.adfc.de/radveranstaltung/190215-r
 adreparaturcafe
DTEND:20260704T130000Z
DTSTAMP:20260421T221213Z
DTSTART:20260704T090000Z
LOCATION:WIWOZU\, Südring 23\, 45525 Hattingen
SEQUENCE:0
SUMMARY:RadReparaturCafé
UID:4cc81e44-bcf5-47ad-b654-b864b90ce5ae
URL:https://touren-termine.adfc.de/radveranstaltung/190215-radreparaturcafe
END:VEVENT
END:VCALENDAR
