BEGIN:VCALENDAR
PRODID:-//github.com/rianjs/ical.net//NONSGML ical.net 4.0//EN
VERSION:2.0
BEGIN:VEVENT
DESCRIPTION:Die Tour geht nach Kirchveischede. Über Waldwege und Asphalt. 
 Mittagseinkehr im Gasthof Suerlänner Eck. Anmeldepflicht bis Freitag 03.1
 1.23 9.00.\nhttps://touren-termine.adfc.de/radveranstaltung/109440-herbst
 tour-suerlanner-eck-nur-ebike
DTEND:20231103T150000Z
DTSTAMP:20260422T234318Z
DTSTART:20231103T090000Z
LOCATION:Marburger Straße 6\, Roter Platz\, 57223 Kreuztal
SEQUENCE:0
SUMMARY:Herbsttour Suerlänner Eck (nur e-Bike)
UID:3edce4ee-04dc-41fd-bc92-7b58b1055cf6
URL:https://touren-termine.adfc.de/radveranstaltung/109440-herbsttour-suer
 lanner-eck-nur-ebike
END:VEVENT
END:VCALENDAR
