BEGIN:VCALENDAR
PRODID:-//github.com/rianjs/ical.net//NONSGML ical.net 4.0//EN
VERSION:2.0
BEGIN:VEVENT
DESCRIPTION:In gemütlicher Runde plaudern Radfahrbegeisterte über Touren\,
  Technik\, Verkehr usw.. Gäste sind herzlich eingeladen.\nhttps://touren-
 termine.adfc.de/radveranstaltung/162230-monatliches-treffen-juni-thaers-w
 irtshaus
DTEND:20250604T190000Z
DTSTAMP:20260421T184633Z
DTSTART:20250604T163000Z
LOCATION:Thaerplatz 1\, 29221 Celle
SEQUENCE:0
SUMMARY:Monatliches Treffen\, Juni (Thaers Wirtshaus)
UID:7dc2871a-7d22-4b7b-a487-b87ca88d7fea
URL:https://touren-termine.adfc.de/radveranstaltung/162230-monatliches-tre
 ffen-juni-thaers-wirtshaus
END:VEVENT
END:VCALENDAR
