BEGIN:VCALENDAR
PRODID:-//github.com/rianjs/ical.net//NONSGML ical.net 4.0//EN
VERSION:2.0
BEGIN:VEVENT
DESCRIPTION:ACHTUNG neuer Startpunkt\n\nDie Radtouren finden nur bei schön
 em Wetter statt.\nhttps://touren-termine.adfc.de/radveranstaltung/137243-
 usa-tagestour-unser-schones-allgau
DTEND:20240818T140000Z
DTSTAMP:20260424T152354Z
DTSTART:20240818T080000Z
LOCATION:Großdorfer Straße\, 87549 Landkreis Oberallgäu
SEQUENCE:0
SUMMARY:U.S.A. - Tagestour (Unser schönes Allgäu).
UID:6247a606-b952-4bcc-bd98-ea0ab4287b9a
URL:https://touren-termine.adfc.de/radveranstaltung/137243-usa-tagestour-u
 nser-schones-allgau
END:VEVENT
END:VCALENDAR
