BEGIN:VCALENDAR
PRODID:-//github.com/rianjs/ical.net//NONSGML ical.net 4.0//EN
VERSION:2.0
BEGIN:VEVENT
DESCRIPTION:Niemand ist perfekt\, das Radwegesystem in Cuxhaven schon gar 
 nicht!\nWir unterhalten uns über alle Dinge rund ums Fahrrad und nehmen W
 ünsche und Anregungen an.\nhttps://touren-termine.adfc.de/radveranstaltun
 g/142238-kaffeestunde
DTEND:20250224T160000Z
DTSTAMP:20260421T022618Z
DTSTART:20250224T140000Z
LOCATION:Bürgerbahnhof\, Am Bahnhof 1\, 27472 Cuxhaven
SEQUENCE:0
SUMMARY:Kaffeestunde
UID:338208ac-7fc8-49b8-8824-9325ded82b8f
URL:https://touren-termine.adfc.de/radveranstaltung/142238-kaffeestunde
END:VEVENT
END:VCALENDAR
