BEGIN:VCALENDAR
PRODID:-//github.com/rianjs/ical.net//NONSGML ical.net 4.0//EN
VERSION:2.0
BEGIN:VEVENT
DESCRIPTION:Über den Römerhügel nach Stammheim und Münchingen\, vorbei am 
 Grünen Heiner bis Ditzingen und entlang der Glems zurück nach Ludwigsburg
 . Diese Tour wird nur gefahren\, wenn es vorher nicht geregnet hat.\nhttp
 s://touren-termine.adfc.de/radveranstaltung/109420-gruner-heiner-glemstal
 -pedelectour
DTEND:20240510T153000Z
DTSTAMP:20260423T191413Z
DTSTART:20240510T120000Z
LOCATION:Marktplatz\, 71634 Ludwigsburg
SEQUENCE:0
SUMMARY:Grüner Heiner - Glemstal - Pedelec-Tour
UID:80074e03-8037-4b14-b53e-ac6429ba7c4a
URL:https://touren-termine.adfc.de/radveranstaltung/109420-gruner-heiner-g
 lemstal-pedelectour
END:VEVENT
END:VCALENDAR
