BEGIN:VCALENDAR
PRODID:-//github.com/rianjs/ical.net//NONSGML ical.net 4.0//EN
VERSION:2.0
BEGIN:VEVENT
DESCRIPTION:Feierabendtouren in die nähere Umgebung\, Distanz 20 - 30 km\,
  oft mit Einkehr.\nhttps://touren-termine.adfc.de/radveranstaltung/152398
 -gilchinger-feierabendtour-herbst
DTEND:20250912T170000Z
DTSTAMP:20260425T145500Z
DTSTART:20250912T140000Z
LOCATION:Marktplatz\, 82205 Gilching
SEQUENCE:0
SUMMARY:Gilchinger Feierabendtour Herbst
UID:98035d91-8fb3-478a-96a0-e431b6bfa289
URL:https://touren-termine.adfc.de/radveranstaltung/152398-gilchinger-feie
 rabendtour-herbst
END:VEVENT
END:VCALENDAR
