BEGIN:VCALENDAR
PRODID:-//github.com/rianjs/ical.net//NONSGML ical.net 4.0//EN
VERSION:2.0
BEGIN:VEVENT
DESCRIPTION:Öffentlicher Stammtisch des ADFC Kempten-Oberallgäu\nhttps://t
 ouren-termine.adfc.de/radveranstaltung/104542-radlerstammtisch-in-martins
 zell
DTEND:20231221T203000Z
DTSTAMP:20260424T152614Z
DTSTART:20231221T190000Z
LOCATION:IG OMa im Bahnhof Martinszell\, Oberdorfer Bahnhofstraße 7\, 8744
 8 Landkreis Oberallgäu
SEQUENCE:0
SUMMARY:Radlerstammtisch in Martinszell
UID:01f6d154-352e-4a20-be77-1d5fa2cca145
URL:https://touren-termine.adfc.de/radveranstaltung/104542-radlerstammtisc
 h-in-martinszell
END:VEVENT
END:VCALENDAR
