BEGIN:VCALENDAR
PRODID:-//github.com/rianjs/ical.net//NONSGML ical.net 4.0//EN
VERSION:2.0
BEGIN:VEVENT
DESCRIPTION:Ein ADFC-TourGuide-Seminar für noch nicht zertifizierte Tourem
 leiter:innen vom ADFC Landesverband  Berlin und ADFC Landesverband Brande
 nburg.\nhttps://touren-termine.adfc.de/radveranstaltung/129981-adfctourgu
 ideseminar-online-und-in-prasenz
DTEND:20241124T160000Z
DTSTAMP:20260424T173211Z
DTSTART:20241123T090000Z
LOCATION:Online und Präsenz\, 10963 Berlin
SEQUENCE:0
SUMMARY:ADFC-TourGuide-Seminar (online und in Präsenz)
UID:556c9453-8c1c-4adf-bfec-8f5a32add518
URL:https://touren-termine.adfc.de/radveranstaltung/129981-adfctourguidese
 minar-online-und-in-prasenz
END:VEVENT
END:VCALENDAR
