BEGIN:VCALENDAR
PRODID:-//github.com/rianjs/ical.net//NONSGML ical.net 4.0//EN
VERSION:2.0
BEGIN:VEVENT
DESCRIPTION:Jeden ersten Sonntag im Monat starten wir den Tag gemeinsam mi
 t einer schönen Radtour rund um Halver.\nhttps://touren-termine.adfc.de/r
 adveranstaltung/135665-sonntagstour-ins-grune
DTEND:20240707T100000Z
DTSTAMP:20260421T133315Z
DTSTART:20240707T080000Z
LOCATION:Mühlenstraße 9\, 58553 Halver
SEQUENCE:0
SUMMARY:Sonntagstour ins Grüne
UID:dcddd2ae-4b7b-4a6f-bd47-61aa87847479
URL:https://touren-termine.adfc.de/radveranstaltung/135665-sonntagstour-in
 s-grune
END:VEVENT
END:VCALENDAR
