BEGIN:VCALENDAR
PRODID:-//github.com/rianjs/ical.net//NONSGML ical.net 4.0//EN
VERSION:2.0
BEGIN:VEVENT
DESCRIPTION:Winterprogramm in Gauting: Radltouren bei trockenem und schöne
 m Wetter von 11 bis 15 Uhr mit mittäglicher Einkehr.\nHeute die 1. Tour i
 m neuen Jahr: Über Germering nach Freiham zum 'Gustl'\nhttps://touren-ter
 mine.adfc.de/radveranstaltung/121130-eisbartour-in-gauting
DTEND:20240130T140000Z
DTSTAMP:20260425T145832Z
DTSTART:20240130T100000Z
LOCATION:Rathaus\, Bahnhofstraße 7\, 82131 Gauting
SEQUENCE:0
SUMMARY:Eisbär-Tour in Gauting
UID:81439566-6589-459c-9672-76c28aa02a62
URL:https://touren-termine.adfc.de/radveranstaltung/121130-eisbartour-in-g
 auting
END:VEVENT
END:VCALENDAR
