BEGIN:VCALENDAR
PRODID:-//github.com/rianjs/ical.net//NONSGML ical.net 4.0//EN
VERSION:2.0
BEGIN:VEVENT
DESCRIPTION:Start: Pavillion Schmölderpark\, 08.07.2023\, 10:00 Uhr.\nhttp
 s://touren-termine.adfc.de/radveranstaltung/104088-rheydt-insel-hombroich
 -grimlinghausen-rheydt
DTEND:20230708T140000Z
DTSTAMP:20260420T233347Z
DTSTART:20230708T080000Z
LOCATION:Schmölderstraße\, 41239 Mönchengladbach
SEQUENCE:0
SUMMARY:Rheydt - Insel Hombroich - Grimlinghausen - Rheydt
UID:0ba0fe18-0101-41e3-939f-bcc47c1c8137
URL:https://touren-termine.adfc.de/radveranstaltung/104088-rheydt-insel-ho
 mbroich-grimlinghausen-rheydt
END:VEVENT
END:VCALENDAR
