BEGIN:VCALENDAR
PRODID:-//github.com/rianjs/ical.net//NONSGML ical.net 4.0//EN
VERSION:2.0
BEGIN:VEVENT
DESCRIPTION:Anmeldeschluss 26.8.\nhttps://touren-termine.adfc.de/radverans
 taltung/170722-extern-pedeleckurs-50-60-plus
DTEND:20250826T215500Z
DTSTAMP:20260424T173316Z
DTSTART:20250826T215000Z
LOCATION:Anmeldung telefonich\, 30853 Langenhagen
SEQUENCE:0
SUMMARY:Extern: Pedelec-Kurs 50 & 60 plusⓇⓈ
UID:ec545550-ba26-4f6d-9b12-f18db801b9ed
URL:https://touren-termine.adfc.de/radveranstaltung/170722-extern-pedeleck
 urs-50-60-plus
END:VEVENT
END:VCALENDAR
