BEGIN:VCALENDAR
PRODID:-//github.com/rianjs/ical.net//NONSGML ical.net 4.0//EN
VERSION:2.0
BEGIN:VEVENT
DESCRIPTION:„RADAR" ist einer der Schwerpunkte dieser Tour. Hierbei handel
 t es sich um Verbesserungsvorschläge zum Radfahren\, eine Komponente des 
 "Stadtradeln". Es soll mit dem Landrat diskutiert werden.\nhttps://touren
 -termine.adfc.de/radveranstaltung/125211-radeln-mit-dem-landrat
DTEND:20240907T170000Z
DTSTAMP:20260421T103217Z
DTSTART:20240907T120000Z
LOCATION:Nürnberger Tor\, 91301 Forchheim
SEQUENCE:0
SUMMARY:Radeln mit dem Landrat
UID:aef33417-56c4-4c74-8a9e-553144a9da04
URL:https://touren-termine.adfc.de/radveranstaltung/125211-radeln-mit-dem-
 landrat
END:VEVENT
END:VCALENDAR
