BEGIN:VCALENDAR
PRODID:-//github.com/rianjs/ical.net//NONSGML ical.net 4.0//EN
VERSION:2.0
BEGIN:VEVENT
DESCRIPTION:Je nach Witterung die Tage zuvor radeln wir an der Amper entla
 ng bis zur Eisdiele in Haimhausen. Zurück geht`s dann über Riedmoos und B
 adersfeld nach Dachau.\nhttps://touren-termine.adfc.de/radveranstaltung/1
 61082-nordostrunde
DTEND:20250423T180000Z
DTSTAMP:20260421T100626Z
DTSTART:20250423T160000Z
LOCATION:Bike & Ride Fahrradparkhaus\, 85221 Dachau
SEQUENCE:0
SUMMARY:Nordostrunde
UID:3ef98ad2-c316-4d36-8ee9-fda15b8484ed
URL:https://touren-termine.adfc.de/radveranstaltung/161082-nordostrunde
END:VEVENT
END:VCALENDAR
