BEGIN:VCALENDAR
PRODID:-//github.com/rianjs/ical.net//NONSGML ical.net 4.0//EN
VERSION:2.0
BEGIN:VEVENT
DESCRIPTION:Radtour durch die Landschaftsparks Würm und München-West\nhttp
 s://touren-termine.adfc.de/radveranstaltung/166056-abschlussradtour-stadt
 radeln-im-wurmtal
DTEND:20250719T110000Z
DTSTAMP:20260425T150459Z
DTSTART:20250719T080000Z
LOCATION:Harmsplatz Stockdorf\, 82131 Gauting
SEQUENCE:0
SUMMARY:Abschlussradtour Stadtradeln im Würmtal
UID:c4212d4d-d3f2-48ac-bf39-1bee5374e1d8
URL:https://touren-termine.adfc.de/radveranstaltung/166056-abschlussradtou
 r-stadtradeln-im-wurmtal
END:VEVENT
END:VCALENDAR
