BEGIN:VCALENDAR
PRODID:-//github.com/rianjs/ical.net//NONSGML ical.net 4.0//EN
VERSION:2.0
BEGIN:VEVENT
DESCRIPTION:Wir umrunden Porta Westfalica.\nhttps://touren-termine.adfc.de
 /radveranstaltung/162501-porta-westfalica-runde
DTEND:20251018T140000Z
DTSTAMP:20260422T202956Z
DTSTART:20251018T090000Z
LOCATION:Kanzlers Weide 1\, 32423 Minden
SEQUENCE:0
SUMMARY:Porta Westfalica Runde
UID:f2ad4bbf-e5de-4578-bb28-913380a29da1
URL:https://touren-termine.adfc.de/radveranstaltung/162501-porta-westfalic
 a-runde
END:VEVENT
END:VCALENDAR
