BEGIN:VCALENDAR
PRODID:-//github.com/rianjs/ical.net//NONSGML ical.net 4.0//EN
VERSION:2.0
BEGIN:VEVENT
DESCRIPTION:Wir fahren nach Broistedt / Lengede und besuchen die Gedenkstä
 tte und das Museum zum Grubenunglück von Lengede\nhttps://touren-termine.
 adfc.de/radveranstaltung/191943-auf-den-spuren-des-bergwerkunglucks-von-l
 engede
DTEND:20260719T120000Z
DTSTAMP:20260423T015225Z
DTSTART:20260719T070000Z
LOCATION:Fahrradständer vorm Raffteichbad\, 38120 Braunschweig
SEQUENCE:0
SUMMARY:Auf den Spuren des Bergwerkunglücks von Lengede
UID:9b2b9983-2e86-41f2-bbf6-5edf4bc73692
URL:https://touren-termine.adfc.de/radveranstaltung/191943-auf-den-spuren-
 des-bergwerkunglucks-von-lengede
END:VEVENT
END:VCALENDAR
