BEGIN:VCALENDAR
PRODID:-//github.com/rianjs/ical.net//NONSGML ical.net 4.0//EN
VERSION:2.0
BEGIN:VEVENT
DESCRIPTION:Die Elbe stromauf bis ins Anhaltische\nhttps://touren-termine.
 adfc.de/radveranstaltung/89397-dreifahrentour
DTEND:20230924T160000Z
DTSTAMP:20260421T103254Z
DTSTART:20230924T070000Z
LOCATION:Uniplatz\, Ecke Listemannstraße\, 39104 Magdeburg
SEQUENCE:0
SUMMARY:Drei-Fähren-Tour
UID:37af535c-dfe5-4ed1-a6c1-6f67d66f864c
URL:https://touren-termine.adfc.de/radveranstaltung/89397-dreifahrentour
END:VEVENT
END:VCALENDAR
