BEGIN:VCALENDAR
PRODID:-//github.com/rianjs/ical.net//NONSGML ical.net 4.0//EN
VERSION:2.0
BEGIN:VEVENT
DESCRIPTION:Die heutige Tour führt uns über die Gasselstiege und Vorbergs 
 Hügel nach Häger und weiter nach Hansell. Nach einem kleinen Zwischenstop
 p an der "Alten Mühle Hansell" steuern wir direkt das Garten-Café\nhttps:
 //touren-termine.adfc.de/radveranstaltung/147119-leezenliebe-kaffeedurst-
 grunwerkstatten
DTEND:20250601T163000Z
DTSTAMP:20260420T173641Z
DTSTART:20250601T110000Z
LOCATION:Servatiiplatz 7\, Drahtesel\, 48143 Münster
SEQUENCE:0
SUMMARY:Leezenliebe & Kaffeedurst Grünwerkstätten
UID:79a6cbb5-e909-449f-9c00-43c6b88818d2
URL:https://touren-termine.adfc.de/radveranstaltung/147119-leezenliebe-kaf
 feedurst-grunwerkstatten
END:VEVENT
END:VCALENDAR
